BEGIN:VCALENDAR
VERSION:2.0
PRODID:-//Pfeiffer Nature Center - ECPv6.15.14//NONSGML v1.0//EN
CALSCALE:GREGORIAN
METHOD:PUBLISH
X-WR-CALNAME:Pfeiffer Nature Center
X-ORIGINAL-URL:https://pfeiffernaturecenter.org/nature-blog
X-WR-CALDESC:Events for Pfeiffer Nature Center
REFRESH-INTERVAL;VALUE=DURATION:PT1H
X-Robots-Tag:noindex
X-PUBLISHED-TTL:PT1H
BEGIN:VTIMEZONE
TZID:America/New_York
BEGIN:DAYLIGHT
TZOFFSETFROM:-0500
TZOFFSETTO:-0400
TZNAME:EDT
DTSTART:20230312T070000
END:DAYLIGHT
BEGIN:STANDARD
TZOFFSETFROM:-0400
TZOFFSETTO:-0500
TZNAME:EST
DTSTART:20231105T060000
END:STANDARD
BEGIN:DAYLIGHT
TZOFFSETFROM:-0500
TZOFFSETTO:-0400
TZNAME:EDT
DTSTART:20240310T070000
END:DAYLIGHT
BEGIN:STANDARD
TZOFFSETFROM:-0400
TZOFFSETTO:-0500
TZNAME:EST
DTSTART:20241103T060000
END:STANDARD
BEGIN:DAYLIGHT
TZOFFSETFROM:-0500
TZOFFSETTO:-0400
TZNAME:EDT
DTSTART:20250309T070000
END:DAYLIGHT
BEGIN:STANDARD
TZOFFSETFROM:-0400
TZOFFSETTO:-0500
TZNAME:EST
DTSTART:20251102T060000
END:STANDARD
END:VTIMEZONE
BEGIN:VEVENT
DTSTART;TZID=America/New_York:20240625T183000
DTEND;TZID=America/New_York:20240625T193000
DTSTAMP:20260419T144840
CREATED:20240611T233311Z
LAST-MODIFIED:20240611T233407Z
UID:5234-1719340200-1719343800@pfeiffernaturecenter.org
SUMMARY:Plant Walk & Primitive Skills Share
DESCRIPTION:Join Bliss from Pfeiffer Nature Center for a summer plant walk & primitive skills share! We will explore various plants and some of their historical uses. Each of you will have the opportunity to learn an ancient\, fun & important earth based-skill. \nPlease pre-register with the following link: Plant Walk Form
URL:https://pfeiffernaturecenter.org/nature-blog/event/plant-walk-primitive-skills-share/
LOCATION:Eshleman Property\, 1420 Yubadam Rd\, Portville\, NY\, 14706\, United States
CATEGORIES:Main
ATTACH;FMTTYPE=image/jpeg:https://pfeiffernaturecenter.org/nature-blog/wp-content/uploads/Plant-Walk-JPEG.jpg
ORGANIZER;CN="Pfeiffer Nature Center":MAILTO:office@pfeiffernaturecenter.org
END:VEVENT
END:VCALENDAR