BEGIN:VCALENDAR
VERSION:2.0
PRODID:-//Pfeiffer Nature Center - ECPv6.15.14//NONSGML v1.0//EN
CALSCALE:GREGORIAN
METHOD:PUBLISH
X-WR-CALNAME:Pfeiffer Nature Center
X-ORIGINAL-URL:https://pfeiffernaturecenter.org/nature-blog
X-WR-CALDESC:Events for Pfeiffer Nature Center
REFRESH-INTERVAL;VALUE=DURATION:PT1H
X-Robots-Tag:noindex
X-PUBLISHED-TTL:PT1H
BEGIN:VTIMEZONE
TZID:America/New_York
BEGIN:DAYLIGHT
TZOFFSETFROM:-0500
TZOFFSETTO:-0400
TZNAME:EDT
DTSTART:20230312T070000
END:DAYLIGHT
BEGIN:STANDARD
TZOFFSETFROM:-0400
TZOFFSETTO:-0500
TZNAME:EST
DTSTART:20231105T060000
END:STANDARD
BEGIN:DAYLIGHT
TZOFFSETFROM:-0500
TZOFFSETTO:-0400
TZNAME:EDT
DTSTART:20240310T070000
END:DAYLIGHT
BEGIN:STANDARD
TZOFFSETFROM:-0400
TZOFFSETTO:-0500
TZNAME:EST
DTSTART:20241103T060000
END:STANDARD
BEGIN:DAYLIGHT
TZOFFSETFROM:-0500
TZOFFSETTO:-0400
TZNAME:EDT
DTSTART:20250309T070000
END:DAYLIGHT
BEGIN:STANDARD
TZOFFSETFROM:-0400
TZOFFSETTO:-0500
TZNAME:EST
DTSTART:20251102T060000
END:STANDARD
END:VTIMEZONE
BEGIN:VEVENT
DTSTART;TZID=America/New_York:20240801T180000
DTEND;TZID=America/New_York:20240801T190000
DTSTAMP:20260422T074313
CREATED:20240605T212948Z
LAST-MODIFIED:20240605T212948Z
UID:5214-1722535200-1722538800@pfeiffernaturecenter.org
SUMMARY:Outdoor Yoga 8
DESCRIPTION:Jessie Lampack Slattery brings you outdoor yoga all summer long! \n  \nThursdays: June 6th – Sept 26th
URL:https://pfeiffernaturecenter.org/nature-blog/event/outdoor-yoga-8/
LOCATION:Pfeiffer Nature Center\, 1974 Lillibridge Rd\, Portville NY\, NY\, 14770\, United States
ATTACH;FMTTYPE=image/png:https://pfeiffernaturecenter.org/nature-blog/wp-content/uploads/pfeiffer-yoga-2024.png
ORGANIZER;CN="Pfeiffer Nature Center":MAILTO:office@pfeiffernaturecenter.org
END:VEVENT
BEGIN:VEVENT
DTSTART;TZID=America/New_York:20240808T183000
DTEND;TZID=America/New_York:20240808T193000
DTSTAMP:20260422T074313
CREATED:20240813T220446Z
LAST-MODIFIED:20240813T221251Z
UID:5294-1723141800-1723145400@pfeiffernaturecenter.org
SUMMARY:Outdoor Yoga 9
DESCRIPTION:Jessie Lampack Slattery brings you outdoor yoga all summer long! \n  \nThursdays: June 6th – Sept 26th
URL:https://pfeiffernaturecenter.org/nature-blog/event/outdoor-yoga-9/
LOCATION:Pfeiffer Nature Center\, 1974 Lillibridge Rd\, Portville NY\, NY\, 14770\, United States
CATEGORIES:Main
ATTACH;FMTTYPE=image/png:https://pfeiffernaturecenter.org/nature-blog/wp-content/uploads/Outdoor-yoga-aug-sept.png
END:VEVENT
BEGIN:VEVENT
DTSTART;TZID=America/New_York:20240815T080000
DTEND;TZID=America/New_York:20240915T220000
DTSTAMP:20260422T074313
CREATED:20240809T180247Z
LAST-MODIFIED:20240812T182036Z
UID:5281-1723708800-1726437600@pfeiffernaturecenter.org
SUMMARY:My Home Park Fundraiser
DESCRIPTION:Pfeiffer Nature Center is where art\, science\, and nature meet. As a dedicated local nonprofit\, our mission is to preserve and cultivate an appreciation for the natural beauty and ecological significance of our environment. By participating in our native plant fundraiser\, you are playing a vital role in enhancing biodiversity and supporting the flora and fauna that so depend on these beautiful native species.  \nMy Home Park’s biologists carefully curated the collections in this sale to feature flowers and grasses native to New York and Northern Pennsylvania\, bringing the essence of Pfeiffer Nature Center right to your backyard. Join us in this meaningful endeavor to nurture and protect our natural heritage. Together\, we can create thriving habitats that support both the vibrant wildlife and the stunning landscapes that make our region so special. \nClick to go to Sale Site
URL:https://pfeiffernaturecenter.org/nature-blog/event/my-home-park-fundraiser/
LOCATION:Virutal
CATEGORIES:Main,Special Events
ATTACH;FMTTYPE=image/png:https://pfeiffernaturecenter.org/nature-blog/wp-content/uploads/MyHomePark-Fundraiser-Flier1.png
ORGANIZER;CN="Pfeiffer Nature Center":MAILTO:office@pfeiffernaturecenter.org
END:VEVENT
BEGIN:VEVENT
DTSTART;TZID=America/New_York:20240815T183000
DTEND;TZID=America/New_York:20240815T193000
DTSTAMP:20260422T074313
CREATED:20240813T220525Z
LAST-MODIFIED:20240813T221245Z
UID:5297-1723746600-1723750200@pfeiffernaturecenter.org
SUMMARY:Outdoor Yoga 10
DESCRIPTION:Jessie Lampack Slattery brings you outdoor yoga all summer long! \n  \nThursdays: June 6th – Sept 26th
URL:https://pfeiffernaturecenter.org/nature-blog/event/outdoor-yoga-10/
LOCATION:Pfeiffer Nature Center\, 1974 Lillibridge Rd\, Portville NY\, NY\, 14770\, United States
ATTACH;FMTTYPE=image/png:https://pfeiffernaturecenter.org/nature-blog/wp-content/uploads/Outdoor-yoga-aug-sept.png
END:VEVENT
BEGIN:VEVENT
DTSTART;TZID=America/New_York:20240818T190000
DTEND;TZID=America/New_York:20240818T200000
DTSTAMP:20260422T074313
CREATED:20240605T174139Z
LAST-MODIFIED:20240804T143320Z
UID:5189-1724007600-1724011200@pfeiffernaturecenter.org
SUMMARY:Forest Bathing - August
DESCRIPTION:Forest Bathing every third Monday until September.
URL:https://pfeiffernaturecenter.org/nature-blog/event/forest-bathing-september/
LOCATION:Pfeiffer Nature Center\, 1974 Lillibridge Rd\, Portville NY\, NY\, 14770\, United States
CATEGORIES:Main
ATTACH;FMTTYPE=image/png:https://pfeiffernaturecenter.org/nature-blog/wp-content/uploads/Forest-bathing-flyer.png
ORGANIZER;CN="Pfeiffer Nature Center":MAILTO:office@pfeiffernaturecenter.org
END:VEVENT
BEGIN:VEVENT
DTSTART;TZID=America/New_York:20240822T183000
DTEND;TZID=America/New_York:20240822T193000
DTSTAMP:20260422T074313
CREATED:20240813T220552Z
LAST-MODIFIED:20240813T221239Z
UID:5299-1724351400-1724355000@pfeiffernaturecenter.org
SUMMARY:Outdoor Yoga 11
DESCRIPTION:Jessie Lampack Slattery brings you outdoor yoga all summer long! \n  \nThursdays: June 6th – Sept 26th
URL:https://pfeiffernaturecenter.org/nature-blog/event/outdoor-yoga-10-copy/
LOCATION:Pfeiffer Nature Center\, 1974 Lillibridge Rd\, Portville NY\, NY\, 14770\, United States
ATTACH;FMTTYPE=image/png:https://pfeiffernaturecenter.org/nature-blog/wp-content/uploads/Outdoor-yoga-aug-sept.png
END:VEVENT
BEGIN:VEVENT
DTSTART;TZID=America/New_York:20240824T120000
DTEND;TZID=America/New_York:20240824T143000
DTSTAMP:20260422T074313
CREATED:20240804T143538Z
LAST-MODIFIED:20240804T143538Z
UID:5278-1724500800-1724509800@pfeiffernaturecenter.org
SUMMARY:Salamander Day
DESCRIPTION:Join Pfeiffer for Salamander Day! This is a great opportunity to learn everything there is to know about different species of salamanders in our area! \nSaturday\, August 24th \n12:00-1:30pm \n1974 Lillibridge Road\, Portville\, NY 14770 \nPlease bring $4.00 cash for each person (adults and children)
URL:https://pfeiffernaturecenter.org/nature-blog/event/salamander-day/
LOCATION:Pfeiffer Nature Center\, 1974 Lillibridge Rd\, Portville NY\, NY\, 14770\, United States
CATEGORIES:Main
ATTACH;FMTTYPE=image/jpeg:https://pfeiffernaturecenter.org/nature-blog/wp-content/uploads/Salmander.jpg
ORGANIZER;CN="Pfeiffer Nature Center":MAILTO:office@pfeiffernaturecenter.org
END:VEVENT
BEGIN:VEVENT
DTSTART;TZID=America/New_York:20240829T183000
DTEND;TZID=America/New_York:20240829T193000
DTSTAMP:20260422T074313
CREATED:20240813T220626Z
LAST-MODIFIED:20240813T221233Z
UID:5302-1724956200-1724959800@pfeiffernaturecenter.org
SUMMARY:Outdoor Yoga 12
DESCRIPTION:Jessie Lampack Slattery brings you outdoor yoga all summer long! \n  \nThursdays: June 6th – Sept 26th
URL:https://pfeiffernaturecenter.org/nature-blog/event/outdoor-yoga-12/
LOCATION:Pfeiffer Nature Center\, 1974 Lillibridge Rd\, Portville NY\, NY\, 14770\, United States
ATTACH;FMTTYPE=image/png:https://pfeiffernaturecenter.org/nature-blog/wp-content/uploads/Outdoor-yoga-aug-sept.png
END:VEVENT
END:VCALENDAR